BEGIN:VCALENDAR
VERSION:2.0
PRODID:-//Eventin//Event Calendar//EN
CALSCALE:GREGORIAN
METHOD:PUBLISH
BEGIN:VEVENT
UID:23bdbe9fcaac3bfaace1edf0c67b2084@www.apostolides.gr
SUMMARY:ΠΕΡΙΦΕΡΕΙΑΚΟ ΣΥΝΕΔΡΙΟ ΕΛΛΗΝΙΚΗΣ ΟΔΟ
 ΝΤΙΑΤΡΙΚΗΣ ΟΜΟΣΠΟΝΔΙΑΣ
DESCRIPTION:Η Ελληνική Οδοντιατρική Ομοσπονδί
 α σας υποδέχεται στο 1ο Πανελλήνιο Περιφε
 ρειακό Συνέδριο στον Βόλο στις 24-25 Απριλί
 ου 2026.\nΧΕΙΡΟΥΡΓΙΚΗ ΣΤΟΜΑΤΟΣ ΚΑΙ ΕΜΦΥΤΕΥΜ
 ΑΤΟΛΟΓΙΑ:Η συνάντηση Επιστήμης\, Τεχνολο
 γίας και Αισθητικής\nΠρακτικό Σεμινάριο 1
 Ημερομηνία: 24 Απριλίου 2026\nΏρα & Αίθουσα: 14
 :00 – 16:00 - Αίθουσα Γ\nΑπλοποιώντας την Αποτ
 ύπωση σε Εμφυτεύματα: Η Κλινική Αξία του V
 ariotime unlimited\, Kulzer.\n\nDr. Όλγα Νάκα\, DDS\, MCliDent\, Ph
 D\nΈνα υψηλού επιπέδου πρακτικό σεμινάριο
  που αναδεικνύει τη σύγχρονη προσέγγιση 
 στη λήψη αποτυπωμάτων σε εμφυτεύματα με 
 το Variotime unlimited.\nΜέσα από θεωρητική τεκμηρ
 ίωση και hands-on εφαρμογή\, οι συμμετέχοντες
  θα εκπαιδευτούν στη λήψη αποτυπωμάτων τ
 όσο σε μονήρη όσο και σε πολλαπλά εμφυτεύ
 ματα\, με έμφαση στη σωστή διαχείριση του 
 υλικού\, στην ακρίβεια της αποτύπωσης και
  στην αποτελεσματικότητα της κλινικής δι
 αδικασίας.\nΠαράλληλα\, θα παρουσιαστούν 
 μικρά κλινικά μυστικά\, πρακτικές συμβου
 λές και σημεία-κλειδιά που μπορούν να βελ
 τιώσουν ουσιαστικά το τελικό αποτέλεσμα 
 στην καθημερινή πράξη.\nΚόστος συμμετοχή
 ς: 30€*Στην τιμή δεν συμπεριλαμβάνεται ο Φ
 .Π.Α.\n\nΠρακτικό Σεμινάριο 2Ημερομηνία: 24 Α
 πριλίου 2026\nΏρα & Αίθουσα: 18:00 - 20:00\, Αίθουσ
 α Β\nΕφαρμογές του CBCT στην καθημερινή οδο
 ντιατρική πράξη. Οι νέες δυνατότητες με τ
 ους σύγχρονους εξειδικευμένους οδοντιατ
 ρικούς τομογράφους.\n\nDr. Νίκος Μακρής\nΈνα
  υψηλού επιπέδου πρακτικό σεμινάριο που 
 αναδεικνύει τη σύγχρονη προσέγγιση στη λ
 ήψη αποτυπωμάτων σε εμφυτεύματα με το Vario
 time unlimited.\nΜέσα από θεωρητική τεκμηρίωση κ
 αι hands-on εφαρμογή\, οι συμμετέχοντες θα εκ
 παιδευτούν στη λήψη αποτυπωμάτων τόσο σε
  μονήρη όσο και σε πολλαπλά εμφυτεύματα\, 
 με έμφαση στη σωστή διαχείριση του υλικο
 ύ\, στην ακρίβεια της αποτύπωσης και στην 
 αποτελεσματικότητα της κλινικής διαδικα
 σίας.\nΚόστος συμμετοχής: 30€*Στην τιμή δε
 ν συμπεριλαμβάνεται ο Φ.Π.Α.\nΓια εγγραφή 
 στο συνέδριο πατήστε εδώ:https://www.eoo.gr/dental_eve
 nts/1o-perifereiako-synedrio-e-o-o-o-s/#register\n\nΜε ενδιαφέρε
 ι:
LOCATION:Βόλος\, Vasilis Resort Hotel
DTSTAMP:20260420T105414Z
DTSTART:20260424T110000Z
DTEND:20260424T130000Z
END:VEVENT
END:VCALENDAR
